BEGIN:VCALENDAR
VERSION:2.0
PRODID:-//Southern Alliance for Clean Energy (SACE) - ECPv6.15.20//NONSGML v1.0//EN
CALSCALE:GREGORIAN
METHOD:PUBLISH
X-ORIGINAL-URL:https://cleanenergy.org
X-WR-CALDESC:Events for Southern Alliance for Clean Energy (SACE)
REFRESH-INTERVAL;VALUE=DURATION:PT1H
X-Robots-Tag:noindex
X-PUBLISHED-TTL:PT1H
BEGIN:VTIMEZONE
TZID:America/Los_Angeles
BEGIN:DAYLIGHT
TZOFFSETFROM:-0800
TZOFFSETTO:-0700
TZNAME:PDT
DTSTART:20250309T100000
END:DAYLIGHT
BEGIN:STANDARD
TZOFFSETFROM:-0700
TZOFFSETTO:-0800
TZNAME:PST
DTSTART:20251102T090000
END:STANDARD
BEGIN:DAYLIGHT
TZOFFSETFROM:-0800
TZOFFSETTO:-0700
TZNAME:PDT
DTSTART:20260308T100000
END:DAYLIGHT
BEGIN:STANDARD
TZOFFSETFROM:-0700
TZOFFSETTO:-0800
TZNAME:PST
DTSTART:20261101T090000
END:STANDARD
BEGIN:DAYLIGHT
TZOFFSETFROM:-0800
TZOFFSETTO:-0700
TZNAME:PDT
DTSTART:20270314T100000
END:DAYLIGHT
BEGIN:STANDARD
TZOFFSETFROM:-0700
TZOFFSETTO:-0800
TZNAME:PST
DTSTART:20271107T090000
END:STANDARD
END:VTIMEZONE
BEGIN:VEVENT
DTSTART;TZID=America/Los_Angeles:20260312T130000
DTEND;TZID=America/Los_Angeles:20260312T140000
DTSTAMP:20260424T140012
CREATED:20260220T191034Z
LAST-MODIFIED:20260220T191147Z
UID:28695-1773320400-1773324000@cleanenergy.org
SUMMARY:"Agrivoltaics 101" Webinar
DESCRIPTION:Join SACE on Thursday\, March 12\, at 1 PM ET for our “Agrivoltaics 101” webinar\, an introduction to agrivoltaics\, the practice of combining agriculture and solar energy production on the same land. We will discuss how solar and agriculture can work together in ways that support farmers\, protect working lands\, and create new income opportunities while moving us closer to a clean energy future. \nWe will be joined by Greg Plotkin\, Senior Manager for Smart Solar Outreach and Engagement for the American Farmland Trust (AFT)\, and Mike Storch\, Manager of Programs and Sustainability for Cypress Creek Renewables\, who will both provide practical information and real-world examples of what agrivoltaics can look like in practice. Dr. Stephen A. Smith\, SACE’s Executive Director\, will discuss how solutions like agrivoltaics are critical to SACE’s focus and for the energy transition. \n“Agrivoltaics 101” Introductory Webinar\nThursday\, March 12 | 1 – 2 PM ET\nRSVP here \nThe webinar will be moderated by Tracy O’Neill\, SACE’s Decarbonization Advocacy Coordinator. For those who are unable to tune into the live webinar\, a recording and other resources will be sent to all registrants. 
URL:https://cleanenergy.org/event/agrivoltaics-101-webinar/
END:VEVENT
BEGIN:VEVENT
DTSTART;TZID=America/Los_Angeles:20260313T120000
DTEND;TZID=America/Los_Angeles:20260313T130000
DTSTAMP:20260424T140012
CREATED:20260227T133912Z
LAST-MODIFIED:20260227T134029Z
UID:28798-1773403200-1773406800@cleanenergy.org
SUMMARY:Clean Energy Generation Monthly Member Call
DESCRIPTION:Want to hear about inspiring ideas and solutions and connect with like-minded members to help support a just and equitable clean energy transformation in the Southeast? As part of the Clean Energy Generation\, we are working to make this transformation a reality\, and it takes all of us. \nJoin us for our next monthly member call on Friday\, March 13 from 12 PM – 1 PM ET to hear updates from SACE’s Clean Energy Generation team\, learn about available opportunities and funding\, meet others from across the Southeast\, and be inspired to take action. All are welcome\, and we would love to see you there! \nRSVP for the Call \nPlease be sure to re-register each month to ensure you have the most updated Zoom meeting link.
URL:https://cleanenergy.org/event/clean-energy-generation-monthly-member-call/
END:VEVENT
BEGIN:VEVENT
DTSTART;TZID=America/Los_Angeles:20260331T080000
DTEND;TZID=America/Los_Angeles:20260401T170000
DTSTAMP:20260424T140012
CREATED:20260226T201613Z
LAST-MODIFIED:20260226T201613Z
UID:28791-1774944000-1775062800@cleanenergy.org
SUMMARY:RE+ Southeast 2026
DESCRIPTION:Join SACE at SE+ Southeast\, hosted on March 31 to April 1\, 2026 at the Georgia World Conference Center in Atlanta\, Georgia!  \nFeaturing two days of exhibition\, a robust education schedule\, and networking opportunities\, attendees at RE+ Southeast will hear from visionary leaders on what’s next for the Southeast clean energy market to propel your business to the next level. RE+ Southeast fosters conversations with industry buyers\, suppliers\, distributors\, consultants\, and more to explore solutions\, exchange ideas\, and discover new technologies. Register with code “JQP1SB5R” for 15% off.  \nRE+ Southeast 2026\nGeorgia World Congress Center | Atlanta\, GA\nMar 31 – Apr 1\, 2026\nRegister here
URL:https://cleanenergy.org/event/re-southeast-2026/
LOCATION:Georgia World Conference Center\, 285 Andrew Young International Blvd NW\, Atlanta\, GA\, 30313\, United States
END:VEVENT
END:VCALENDAR