BEGIN:VCALENDAR
VERSION:2.0
PRODID:-//Southern Alliance for Clean Energy (SACE) - ECPv6.15.20//NONSGML v1.0//EN
CALSCALE:GREGORIAN
METHOD:PUBLISH
X-ORIGINAL-URL:https://cleanenergy.org
X-WR-CALDESC:Events for Southern Alliance for Clean Energy (SACE)
REFRESH-INTERVAL;VALUE=DURATION:PT1H
X-Robots-Tag:noindex
X-PUBLISHED-TTL:PT1H
BEGIN:VTIMEZONE
TZID:America/Los_Angeles
BEGIN:DAYLIGHT
TZOFFSETFROM:-0800
TZOFFSETTO:-0700
TZNAME:PDT
DTSTART:20240310T100000
END:DAYLIGHT
BEGIN:STANDARD
TZOFFSETFROM:-0700
TZOFFSETTO:-0800
TZNAME:PST
DTSTART:20241103T090000
END:STANDARD
BEGIN:DAYLIGHT
TZOFFSETFROM:-0800
TZOFFSETTO:-0700
TZNAME:PDT
DTSTART:20250309T100000
END:DAYLIGHT
BEGIN:STANDARD
TZOFFSETFROM:-0700
TZOFFSETTO:-0800
TZNAME:PST
DTSTART:20251102T090000
END:STANDARD
BEGIN:DAYLIGHT
TZOFFSETFROM:-0800
TZOFFSETTO:-0700
TZNAME:PDT
DTSTART:20260308T100000
END:DAYLIGHT
BEGIN:STANDARD
TZOFFSETFROM:-0700
TZOFFSETTO:-0800
TZNAME:PST
DTSTART:20261101T090000
END:STANDARD
END:VTIMEZONE
BEGIN:VEVENT
DTSTART;TZID=America/Los_Angeles:20251212T120000
DTEND;TZID=America/Los_Angeles:20251212T130000
DTSTAMP:20260424T192735
CREATED:20251124T212251Z
LAST-MODIFIED:20251124T212321Z
UID:27417-1765540800-1765544400@cleanenergy.org
SUMMARY:Clean Energy Generation Member Call
DESCRIPTION:Every second Friday of the month\, please RSVP for our monthly member call to learn about new ways to take action\, hear updates on clean energy policy\, and share inspiring ideas and solutions with other changemakers from across the Southeast. All are welcome!
URL:https://cleanenergy.org/event/clean-energy-generation-member-call-7/
END:VEVENT
END:VCALENDAR