BEGIN:VCALENDAR
VERSION:2.0
PRODID:-//Southern Alliance for Clean Energy (SACE) - ECPv6.15.20//NONSGML v1.0//EN
CALSCALE:GREGORIAN
METHOD:PUBLISH
X-ORIGINAL-URL:https://cleanenergy.org
X-WR-CALDESC:Events for Southern Alliance for Clean Energy (SACE)
REFRESH-INTERVAL;VALUE=DURATION:PT1H
X-Robots-Tag:noindex
X-PUBLISHED-TTL:PT1H
BEGIN:VTIMEZONE
TZID:America/New_York
BEGIN:DAYLIGHT
TZOFFSETFROM:-0500
TZOFFSETTO:-0400
TZNAME:EDT
DTSTART:20240310T070000
END:DAYLIGHT
BEGIN:STANDARD
TZOFFSETFROM:-0400
TZOFFSETTO:-0500
TZNAME:EST
DTSTART:20241103T060000
END:STANDARD
BEGIN:DAYLIGHT
TZOFFSETFROM:-0500
TZOFFSETTO:-0400
TZNAME:EDT
DTSTART:20250309T070000
END:DAYLIGHT
BEGIN:STANDARD
TZOFFSETFROM:-0400
TZOFFSETTO:-0500
TZNAME:EST
DTSTART:20251102T060000
END:STANDARD
BEGIN:DAYLIGHT
TZOFFSETFROM:-0500
TZOFFSETTO:-0400
TZNAME:EDT
DTSTART:20260308T070000
END:DAYLIGHT
BEGIN:STANDARD
TZOFFSETFROM:-0400
TZOFFSETTO:-0500
TZNAME:EST
DTSTART:20261101T060000
END:STANDARD
END:VTIMEZONE
BEGIN:VEVENT
DTSTART;TZID=America/New_York:20250711T120000
DTEND;TZID=America/New_York:20250711T130000
DTSTAMP:20260425T044055
CREATED:20250625T021115Z
LAST-MODIFIED:20250625T021250Z
UID:20032-1752235200-1752238800@cleanenergy.org
SUMMARY:Clean Energy Generation Member Call
DESCRIPTION:Want to hear about inspiring ideas and solutions and connect with like-minded members to help support a just and equitable clean energy transformation in the Southeast? As part of the Clean Energy Generation\, we are working to make this transformation a reality\, and it takes all of us. Join us on Friday\, July 11 at 12 PM ET to hear updates from SACE’s Clean Energy Generation team\, learn about available opportunities and funding\, meet other members from across the Southeast\, and be inspired to take action. All are welcome\, and we hope to see you there! \n*Please be sure to re-register each month to ensure you have the updated Zoom meeting link. \nRegister
URL:https://cleanenergy.org/event/clean-energy-generation-member-call-2/
ATTACH;FMTTYPE=image/jpeg:https://cleanenergy.org/wp-content/uploads/rounded-banner-kids-hands-CEG.jpg
END:VEVENT
END:VCALENDAR